BEGIN:VCALENDAR
PRODID:-//nuDatenautomaten//framework iCal4j //DE
VERSION:2.0
CALSCALE:GREGORIAN
BEGIN:VTIMEZONE
TZID:Europe/Berlin
LAST-MODIFIED:20260306T231828Z
TZURL:https://www.tzurl.org/zoneinfo/Europe/Berlin
X-LIC-LOCATION:Europe/Berlin
X-PROLEPTIC-TZNAME:LMT
BEGIN:STANDARD
TZNAME:CET
TZOFFSETFROM:+005328
TZOFFSETTO:+0100
DTSTART:18930401T000000
END:STANDARD
BEGIN:DAYLIGHT
TZNAME:CEST
TZOFFSETFROM:+0100
TZOFFSETTO:+0200
DTSTART:19160430T230000
RDATE:19400401T020000
RDATE:19430329T020000
RDATE:19460414T020000
RDATE:19470406T030000
RDATE:19480418T020000
RDATE:19490410T020000
RDATE:19800406T020000
END:DAYLIGHT
BEGIN:STANDARD
TZNAME:CET
TZOFFSETFROM:+0200
TZOFFSETTO:+0100
DTSTART:19161001T010000
RDATE:19421102T030000
RDATE:19431004T030000
RDATE:19441002T030000
RDATE:19451118T030000
RDATE:19461007T030000
END:STANDARD
BEGIN:DAYLIGHT
TZNAME:CEST
TZOFFSETFROM:+0100
TZOFFSETTO:+0200
DTSTART:19170416T020000
RRULE:FREQ=YEARLY;UNTIL=19180415T010000Z;BYMONTH=4;BYDAY=3MO
END:DAYLIGHT
BEGIN:STANDARD
TZNAME:CET
TZOFFSETFROM:+0200
TZOFFSETTO:+0100
DTSTART:19170917T030000
RRULE:FREQ=YEARLY;UNTIL=19180916T010000Z;BYMONTH=9;BYDAY=3MO
END:STANDARD
BEGIN:DAYLIGHT
TZNAME:CEST
TZOFFSETFROM:+0100
TZOFFSETTO:+0200
DTSTART:19440403T020000
RRULE:FREQ=YEARLY;UNTIL=19450402T010000Z;BYMONTH=4;BYDAY=1MO
END:DAYLIGHT
BEGIN:DAYLIGHT
TZNAME:CEMT
TZOFFSETFROM:+0200
TZOFFSETTO:+0300
DTSTART:19450524T020000
RDATE:19470511T030000
END:DAYLIGHT
BEGIN:DAYLIGHT
TZNAME:CEST
TZOFFSETFROM:+0300
TZOFFSETTO:+0200
DTSTART:19450924T030000
RDATE:19470629T030000
END:DAYLIGHT
BEGIN:STANDARD
TZNAME:CET
TZOFFSETFROM:+0100
TZOFFSETTO:+0100
DTSTART:19460101T000000
RDATE:19800101T000000
END:STANDARD
BEGIN:STANDARD
TZNAME:CET
TZOFFSETFROM:+0200
TZOFFSETTO:+0100
DTSTART:19471005T030000
RRULE:FREQ=YEARLY;UNTIL=19491002T010000Z;BYMONTH=10;BYDAY=1SU
END:STANDARD
BEGIN:STANDARD
TZNAME:CET
TZOFFSETFROM:+0200
TZOFFSETTO:+0100
DTSTART:19800928T030000
RRULE:FREQ=YEARLY;UNTIL=19950924T010000Z;BYMONTH=9;BYDAY=-1SU
END:STANDARD
BEGIN:DAYLIGHT
TZNAME:CEST
TZOFFSETFROM:+0100
TZOFFSETTO:+0200
DTSTART:19810329T020000
RRULE:FREQ=YEARLY;BYMONTH=3;BYDAY=-1SU
END:DAYLIGHT
BEGIN:STANDARD
TZNAME:CET
TZOFFSETFROM:+0200
TZOFFSETTO:+0100
DTSTART:19961027T030000
RRULE:FREQ=YEARLY;BYMONTH=10;BYDAY=-1SU
END:STANDARD
END:VTIMEZONE
BEGIN:VEVENT
DTSTAMP:20260419T152856Z
DTSTART;TZID=Europe/Berlin:20231014T140000
DTEND;TZID=Europe/Berlin:20231014T170000
SUMMARY:BBL BC PreussenPark 09 vs BG Neukölln (14)
UID:8c6bfcfa-e89c-4420-ba4f-1eee5284e715
STATUS:CONFIRMED
LAST-MODIFIED:20240219T114745Z
DESCRIPTION:Berlin-Brandenburg-Liga\nBegegnungs-Nr: 14\nHeim: BC PreussenPark 09\nGast: BG Neukölln\nHalle: PR (PR)\nAdresse: Kamenzer Damm 34\, 12249 Berlin - Lankwitz\n
LOCATION:PR (PR): Kamenzer Damm 34\, 12249 Berlin - Lankwitz
CATEGORIES:Saison 2023/24
END:VEVENT
BEGIN:VEVENT
DTSTAMP:20260419T152856Z
DTSTART;TZID=Europe/Berlin:20240217T140000
DTEND;TZID=Europe/Berlin:20240217T170000
SUMMARY:BBL BC PreussenPark 09 vs SV KWO (18)
UID:21891ddb-44f3-46cc-af9d-3fc3adca84fd
STATUS:CONFIRMED
LAST-MODIFIED:20240219T121119Z
DESCRIPTION:Berlin-Brandenburg-Liga\nBegegnungs-Nr: 18\nHeim: BC PreussenPark 09\nGast: SV KWO\nHalle: PR (PR)\nAdresse: Kamenzer Damm 34\, 12249 Berlin - Lankwitz\n
LOCATION:PR (PR): Kamenzer Damm 34\, 12249 Berlin - Lankwitz
CATEGORIES:Saison 2023/24
END:VEVENT
BEGIN:VEVENT
DTSTAMP:20260419T152856Z
DTSTART;TZID=Europe/Berlin:20240127T140000
DTEND;TZID=Europe/Berlin:20240127T170000
SUMMARY:BBL BC PreussenPark 09 vs VfB Hermsdorf (11)
UID:f0d1b224-88ea-46ff-9610-162fa82f23da
STATUS:CONFIRMED
LAST-MODIFIED:20240219T120852Z
DESCRIPTION:Berlin-Brandenburg-Liga\nBegegnungs-Nr: 11\nHeim: BC PreussenPark 09\nGast: VfB Hermsdorf\nHalle: PR (PR)\nAdresse: Kamenzer Damm 34\, 12249 Berlin - Lankwitz\n
LOCATION:PR (PR): Kamenzer Damm 34\, 12249 Berlin - Lankwitz
CATEGORIES:Saison 2023/24
END:VEVENT
BEGIN:VEVENT
DTSTAMP:20260419T152856Z
DTSTART;TZID=Europe/Berlin:20240120T130000
DTEND;TZID=Europe/Berlin:20240120T160000
SUMMARY:BBL BC PreussenPark 09 vs Berliner Sport-Club II (6)
UID:79ccd82d-3de9-4b74-b50c-4b28138de5ab
STATUS:CONFIRMED
LAST-MODIFIED:20240219T120606Z
DESCRIPTION:Berlin-Brandenburg-Liga\nBegegnungs-Nr: 6\nHeim: BC PreussenPark 09\nGast: Berliner Sport-Club II\nHalle: PR (PR)\nAdresse: Kamenzer Damm 34\, 12249 Berlin - Lankwitz\n
LOCATION:PR (PR): Kamenzer Damm 34\, 12249 Berlin - Lankwitz
CATEGORIES:Saison 2023/24
END:VEVENT
BEGIN:VEVENT
DTSTAMP:20260419T152856Z
DTSTART;TZID=Europe/Berlin:20231111T140000
DTEND;TZID=Europe/Berlin:20231111T170000
SUMMARY:BBL BC PreussenPark 09 vs SV Berliner Brauereien III (22)
UID:9702775e-beee-4f3f-9afc-29acf042347c
STATUS:CONFIRMED
LAST-MODIFIED:20240219T115059Z
DESCRIPTION:Berlin-Brandenburg-Liga\nBegegnungs-Nr: 22\nHeim: BC PreussenPark 09\nGast: SV Berliner Brauereien III\nHalle: PR (PR)\nAdresse: Kamenzer Damm 34\, 12249 Berlin - Lankwitz\n
LOCATION:PR (PR): Kamenzer Damm 34\, 12249 Berlin - Lankwitz
CATEGORIES:Saison 2023/24
END:VEVENT
BEGIN:VEVENT
DTSTAMP:20260419T152856Z
DTSTART;TZID=Europe/Berlin:20231209T163000
DTEND;TZID=Europe/Berlin:20231209T193000
SUMMARY:BBL BC PreussenPark 09 vs SG ProSport/Zehlendorf (25)
UID:c1ef0f7e-280e-4411-b9de-5bcd968da4ed
STATUS:CONFIRMED
LAST-MODIFIED:20231210T190830Z
DESCRIPTION:Berlin-Brandenburg-Liga\nBegegnungs-Nr: 25\nHeim: BC PreussenPark 09\nGast: SG ProSport/Zehlendorf\nHalle: PR (PR)\nAdresse: Kamenzer Damm 34\, 12249 Berlin - Lankwitz\n
LOCATION:PR (PR): Kamenzer Damm 34\, 12249 Berlin - Lankwitz
CATEGORIES:Saison 2023/24
END:VEVENT
BEGIN:VEVENT
DTSTAMP:20260419T152856Z
DTSTART;TZID=Europe/Berlin:20230923T140000
DTEND;TZID=Europe/Berlin:20230923T170000
SUMMARY:BBL BC PreussenPark 09 vs SG EBT II (2)
UID:e29c9461-a656-447f-8760-3116f11ecab0
STATUS:CONFIRMED
LAST-MODIFIED:20230929T080555Z
DESCRIPTION:Berlin-Brandenburg-Liga\nBegegnungs-Nr: 2\nHeim: BC PreussenPark 09\nGast: SG EBT II\nHalle: PR (PR)\nAdresse: Kamenzer Damm 34\, 12249 Berlin - Lankwitz\n
LOCATION:PR (PR): Kamenzer Damm 34\, 12249 Berlin - Lankwitz
CATEGORIES:Saison 2023/24
END:VEVENT
BEGIN:VEVENT
DTSTAMP:20260419T152856Z
DTSTART;TZID=Europe/Berlin:20231112T140000
DTEND;TZID=Europe/Berlin:20231112T170000
SUMMARY:BBL SV KWO vs BC PreussenPark 09 (18)
UID:26b8c332-1651-42ff-800c-7a3071875352
STATUS:CONFIRMED
LAST-MODIFIED:20240219T115300Z
DESCRIPTION:Berlin-Brandenburg-Liga\nBegegnungs-Nr: 18\nHeim: SV KWO\nGast: BC PreussenPark 09\nHalle: PN (PN)\nAdresse: Pablo-Neruda-Str. 8\, 12559 Berlin - Köpenick\n
LOCATION:PN (PN): Pablo-Neruda-Str. 8\, 12559 Berlin - Köpenick
CATEGORIES:Saison 2023/24
END:VEVENT
BEGIN:VEVENT
DTSTAMP:20260419T152856Z
DTSTART;TZID=Europe/Berlin:20240302T150000
DTEND;TZID=Europe/Berlin:20240302T180000
SUMMARY:BBL SG ProSport/Zehlendorf vs BC PreussenPark 09 (25)
UID:affd1888-67cb-47e2-93f1-13f2d246191b
STATUS:CONFIRMED
LAST-MODIFIED:20240611T175130Z
DESCRIPTION:Berlin-Brandenburg-Liga\nBegegnungs-Nr: 25\nHeim: SG ProSport/Zehlendorf\nGast: BC PreussenPark 09\nHalle: AH (AH)\nAdresse: Am Hegewinkel 2\, 14169 Berlin - Zehlendorf\n
LOCATION:AH (AH): Am Hegewinkel 2\, 14169 Berlin - Zehlendorf
CATEGORIES:Saison 2023/24
END:VEVENT
BEGIN:VEVENT
DTSTAMP:20260419T152856Z
DTSTART;TZID=Europe/Berlin:20240218T130000
DTEND;TZID=Europe/Berlin:20240218T160000
SUMMARY:BBL SV Berliner Brauereien III vs BC PreussenPark 09 (22)
UID:04b7c5c6-06fb-4c9a-a585-ebf984050af4
STATUS:CONFIRMED
LAST-MODIFIED:20240219T121325Z
DESCRIPTION:Berlin-Brandenburg-Liga\nBegegnungs-Nr: 22\nHeim: SV Berliner Brauereien III\nGast: BC PreussenPark 09\nHalle: TM (TM)\nAdresse: Templiner Str. 3\, 10119 Berlin - Prenzlauer Berg\n
LOCATION:TM (TM): Templiner Str. 3\, 10119 Berlin - Prenzlauer Berg
CATEGORIES:Saison 2023/24
END:VEVENT
BEGIN:VEVENT
DTSTAMP:20260419T152856Z
DTSTART;TZID=Europe/Berlin:20240113T160000
DTEND;TZID=Europe/Berlin:20240113T190000
SUMMARY:BBL SG EBT II vs BC PreussenPark 09 (3)
UID:6821fd2f-dbca-4295-82e7-c144f47f5749
STATUS:CONFIRMED
LAST-MODIFIED:20240219T120430Z
DESCRIPTION:Berlin-Brandenburg-Liga\nBegegnungs-Nr: 3\nHeim: SG EBT II\nGast: BC PreussenPark 09\nHalle: SA (SA)\nAdresse: Samariterstr. 19-20\, 10249 Berlin - Friedrichshain\n
LOCATION:SA (SA): Samariterstr. 19-20\, 10249 Berlin - Friedrichshain
CATEGORIES:Saison 2023/24
END:VEVENT
BEGIN:VEVENT
DTSTAMP:20260419T152856Z
DTSTART;TZID=Europe/Berlin:20240128T123000
DTEND;TZID=Europe/Berlin:20240128T153000
SUMMARY:BBL BG Neukölln vs BC PreussenPark 09 (13)
UID:28f2eb41-9ced-4687-aa3d-ade372f9797e
STATUS:CONFIRMED
LAST-MODIFIED:20240219T120924Z
DESCRIPTION:Berlin-Brandenburg-Liga\nBegegnungs-Nr: 13\nHeim: BG Neukölln\nGast: BC PreussenPark 09\nHalle: HH (HH)\nAdresse: Hasenhegerweg 12-18\, 12353 Berlin - Buckow\n
LOCATION:HH (HH): Hasenhegerweg 12-18\, 12353 Berlin - Buckow
CATEGORIES:Saison 2023/24
END:VEVENT
BEGIN:VEVENT
DTSTAMP:20260419T152856Z
DTSTART;TZID=Europe/Berlin:20231007T150000
DTEND;TZID=Europe/Berlin:20231007T180000
SUMMARY:BBL VfB Hermsdorf vs BC PreussenPark 09 (5)
UID:acf75e16-67ab-453f-b254-e1be35c666ae
STATUS:CONFIRMED
LAST-MODIFIED:20240219T114459Z
DESCRIPTION:Berlin-Brandenburg-Liga\nBegegnungs-Nr: 5\nHeim: VfB Hermsdorf\nGast: BC PreussenPark 09\nHalle: HE (HE)\nAdresse: Heidenheimer Straße 53/55\, 13467 Berlin - Hermsdorf\n
LOCATION:HE (HE): Heidenheimer Straße 53/55\, 13467 Berlin - Hermsdorf
CATEGORIES:Saison 2023/24
END:VEVENT
BEGIN:VEVENT
DTSTAMP:20260419T152856Z
DTSTART;TZID=Europe/Berlin:20231008T160000
DTEND;TZID=Europe/Berlin:20231008T190000
SUMMARY:BBL Berliner Sport-Club II vs BC PreussenPark 09 (8)
UID:e5921e69-2540-4b8c-b4f0-a62503ff4a13
STATUS:CONFIRMED
LAST-MODIFIED:20240219T114646Z
DESCRIPTION:Berlin-Brandenburg-Liga\nBegegnungs-Nr: 8\nHeim: Berliner Sport-Club II\nGast: BC PreussenPark 09\nHalle: GÜ (GÜ)\nAdresse: Güntzelstraße 34-35\, 10717 Berlin - Wilmersdorf\n
LOCATION:GÜ (GÜ): Güntzelstraße 34-35\, 10717 Berlin - Wilmersdorf
CATEGORIES:Saison 2023/24
END:VEVENT
END:VCALENDAR
