BEGIN:VCALENDAR
PRODID:-//nuDatenautomaten//framework iCal4j //DE
VERSION:2.0
CALSCALE:GREGORIAN
BEGIN:VTIMEZONE
TZID:Europe/Berlin
LAST-MODIFIED:20260306T231828Z
TZURL:https://www.tzurl.org/zoneinfo/Europe/Berlin
X-LIC-LOCATION:Europe/Berlin
X-PROLEPTIC-TZNAME:LMT
BEGIN:STANDARD
TZNAME:CET
TZOFFSETFROM:+005328
TZOFFSETTO:+0100
DTSTART:18930401T000000
END:STANDARD
BEGIN:DAYLIGHT
TZNAME:CEST
TZOFFSETFROM:+0100
TZOFFSETTO:+0200
DTSTART:19160430T230000
RDATE:19400401T020000
RDATE:19430329T020000
RDATE:19460414T020000
RDATE:19470406T030000
RDATE:19480418T020000
RDATE:19490410T020000
RDATE:19800406T020000
END:DAYLIGHT
BEGIN:STANDARD
TZNAME:CET
TZOFFSETFROM:+0200
TZOFFSETTO:+0100
DTSTART:19161001T010000
RDATE:19421102T030000
RDATE:19431004T030000
RDATE:19441002T030000
RDATE:19451118T030000
RDATE:19461007T030000
END:STANDARD
BEGIN:DAYLIGHT
TZNAME:CEST
TZOFFSETFROM:+0100
TZOFFSETTO:+0200
DTSTART:19170416T020000
RRULE:FREQ=YEARLY;UNTIL=19180415T010000Z;BYMONTH=4;BYDAY=3MO
END:DAYLIGHT
BEGIN:STANDARD
TZNAME:CET
TZOFFSETFROM:+0200
TZOFFSETTO:+0100
DTSTART:19170917T030000
RRULE:FREQ=YEARLY;UNTIL=19180916T010000Z;BYMONTH=9;BYDAY=3MO
END:STANDARD
BEGIN:DAYLIGHT
TZNAME:CEST
TZOFFSETFROM:+0100
TZOFFSETTO:+0200
DTSTART:19440403T020000
RRULE:FREQ=YEARLY;UNTIL=19450402T010000Z;BYMONTH=4;BYDAY=1MO
END:DAYLIGHT
BEGIN:DAYLIGHT
TZNAME:CEMT
TZOFFSETFROM:+0200
TZOFFSETTO:+0300
DTSTART:19450524T020000
RDATE:19470511T030000
END:DAYLIGHT
BEGIN:DAYLIGHT
TZNAME:CEST
TZOFFSETFROM:+0300
TZOFFSETTO:+0200
DTSTART:19450924T030000
RDATE:19470629T030000
END:DAYLIGHT
BEGIN:STANDARD
TZNAME:CET
TZOFFSETFROM:+0100
TZOFFSETTO:+0100
DTSTART:19460101T000000
RDATE:19800101T000000
END:STANDARD
BEGIN:STANDARD
TZNAME:CET
TZOFFSETFROM:+0200
TZOFFSETTO:+0100
DTSTART:19471005T030000
RRULE:FREQ=YEARLY;UNTIL=19491002T010000Z;BYMONTH=10;BYDAY=1SU
END:STANDARD
BEGIN:STANDARD
TZNAME:CET
TZOFFSETFROM:+0200
TZOFFSETTO:+0100
DTSTART:19800928T030000
RRULE:FREQ=YEARLY;UNTIL=19950924T010000Z;BYMONTH=9;BYDAY=-1SU
END:STANDARD
BEGIN:DAYLIGHT
TZNAME:CEST
TZOFFSETFROM:+0100
TZOFFSETTO:+0200
DTSTART:19810329T020000
RRULE:FREQ=YEARLY;BYMONTH=3;BYDAY=-1SU
END:DAYLIGHT
BEGIN:STANDARD
TZNAME:CET
TZOFFSETFROM:+0200
TZOFFSETTO:+0100
DTSTART:19961027T030000
RRULE:FREQ=YEARLY;BYMONTH=10;BYDAY=-1SU
END:STANDARD
END:VTIMEZONE
BEGIN:VEVENT
DTSTAMP:20260419T222013Z
DTSTART;TZID=Europe/Berlin:20231007T120000
DTEND;TZID=Europe/Berlin:20231007T150000
SUMMARY:Landesliga 2 TSV Tempelhof-Mariendorf II vs SG ProSport/Zehlendorf II (6)
UID:86e8009e-5944-4b77-91fe-7024558fb0d0
STATUS:CONFIRMED
LAST-MODIFIED:20231015T202355Z
DESCRIPTION:Landesliga 2\nBegegnungs-Nr: 6\nHeim: TSV Tempelhof-Mariendorf II\nGast: SG ProSport/Zehlendorf II\nHalle: FX (FX)\nAdresse: Felixstr. 26\, 12099 Berlin - Tempelhof\n
LOCATION:FX (FX): Felixstr. 26\, 12099 Berlin - Tempelhof
CATEGORIES:Saison 2023/24
END:VEVENT
BEGIN:VEVENT
DTSTAMP:20260419T222013Z
DTSTART;TZID=Europe/Berlin:20231008T170000
DTEND;TZID=Europe/Berlin:20231008T200000
SUMMARY:Landesliga 2 TSV Tempelhof-Mariendorf II vs SG ProSport/Zehlendorf IV (10)
UID:76f90811-5a17-4409-bb27-7626a54e93f8
STATUS:CONFIRMED
LAST-MODIFIED:20240117T055849Z
DESCRIPTION:Landesliga 2\nBegegnungs-Nr: 10\nHeim: TSV Tempelhof-Mariendorf II\nGast: SG ProSport/Zehlendorf IV\nHalle: FX (FX)\nAdresse: Felixstr. 26\, 12099 Berlin - Tempelhof\n
LOCATION:FX (FX): Felixstr. 26\, 12099 Berlin - Tempelhof
CATEGORIES:Saison 2023/24
END:VEVENT
BEGIN:VEVENT
DTSTAMP:20260419T222013Z
DTSTART;TZID=Europe/Berlin:20230924T100000
DTEND;TZID=Europe/Berlin:20230924T130000
SUMMARY:Landesliga 2 TSV Tempelhof-Mariendorf II vs Berliner Sport-Club III (13)
UID:c2e4d372-0067-40fe-903a-9ed145c0b1a3
STATUS:CONFIRMED
LAST-MODIFIED:20230930T090600Z
DESCRIPTION:Landesliga 2\nBegegnungs-Nr: 13\nHeim: TSV Tempelhof-Mariendorf II\nGast: Berliner Sport-Club III\nHalle: FX (FX)\nAdresse: Felixstr. 26\, 12099 Berlin - Tempelhof\n
LOCATION:FX (FX): Felixstr. 26\, 12099 Berlin - Tempelhof
CATEGORIES:Saison 2023/24
END:VEVENT
BEGIN:VEVENT
DTSTAMP:20260419T222013Z
DTSTART;TZID=Europe/Berlin:20231105T100000
DTEND;TZID=Europe/Berlin:20231105T130000
SUMMARY:Landesliga 2 TSV Tempelhof-Mariendorf II vs SG EBT III (18)
UID:f4b731ee-5a73-4f16-b3aa-590295a18b24
STATUS:CONFIRMED
LAST-MODIFIED:20231110T084059Z
DESCRIPTION:Landesliga 2\nBegegnungs-Nr: 18\nHeim: TSV Tempelhof-Mariendorf II\nGast: SG EBT III\nHalle: FX (FX)\nAdresse: Felixstr. 26\, 12099 Berlin - Tempelhof\n
LOCATION:FX (FX): Felixstr. 26\, 12099 Berlin - Tempelhof
CATEGORIES:Saison 2023/24
END:VEVENT
BEGIN:VEVENT
DTSTAMP:20260419T222013Z
DTSTART;TZID=Europe/Berlin:20240218T110000
DTEND;TZID=Europe/Berlin:20240218T140000
SUMMARY:Landesliga 2 TSV Tempelhof-Mariendorf II vs SC Brandenburg III (22)
UID:f5351d36-e94e-435c-8fa4-8f2934c61c40
STATUS:CONFIRMED
LAST-MODIFIED:20240329T153622Z
DESCRIPTION:Landesliga 2\nBegegnungs-Nr: 22\nHeim: TSV Tempelhof-Mariendorf II\nGast: SC Brandenburg III\nHalle: FX (FX)\nAdresse: Felixstr. 26\, 12099 Berlin - Tempelhof\n
LOCATION:FX (FX): Felixstr. 26\, 12099 Berlin - Tempelhof
CATEGORIES:Saison 2023/24
END:VEVENT
BEGIN:VEVENT
DTSTAMP:20260419T222013Z
DTSTART;TZID=Europe/Berlin:20231209T133000
DTEND;TZID=Europe/Berlin:20231209T163000
SUMMARY:Landesliga 2 TSV Tempelhof-Mariendorf II vs SG BC Tempelhof/Friedenau II (25)
UID:9157ab8d-e86f-4950-9a94-e3c30b972275
STATUS:CONFIRMED
LAST-MODIFIED:20240109T124236Z
DESCRIPTION:Landesliga 2\nBegegnungs-Nr: 25\nHeim: TSV Tempelhof-Mariendorf II\nGast: SG BC Tempelhof/Friedenau II\nHalle: FX (FX)\nAdresse: Felixstr. 26\, 12099 Berlin - Tempelhof\n
LOCATION:FX (FX): Felixstr. 26\, 12099 Berlin - Tempelhof
CATEGORIES:Saison 2023/24
END:VEVENT
BEGIN:VEVENT
DTSTAMP:20260419T222013Z
DTSTART;TZID=Europe/Berlin:20231112T100000
DTEND;TZID=Europe/Berlin:20231112T130000
SUMMARY:Landesliga 2 SC Brandenburg III vs TSV Tempelhof-Mariendorf II (20)
UID:df20d75d-a2fc-4d6d-8d6a-789168423fa1
STATUS:CONFIRMED
LAST-MODIFIED:20240109T123847Z
DESCRIPTION:Landesliga 2\nBegegnungs-Nr: 20\nHeim: SC Brandenburg III\nGast: TSV Tempelhof-Mariendorf II\nHalle: DI (DI)\nAdresse: Dickhardtstr. 21-22\, 12161 Berlin - Tempelhof\n
LOCATION:DI (DI): Dickhardtstr. 21-22\, 12161 Berlin - Tempelhof
CATEGORIES:Saison 2023/24
END:VEVENT
BEGIN:VEVENT
DTSTAMP:20260419T222013Z
DTSTART;TZID=Europe/Berlin:20240302T143000
DTEND;TZID=Europe/Berlin:20240302T173000
SUMMARY:Landesliga 2 SG BC Tempelhof/Friedenau II vs TSV Tempelhof-Mariendorf II (26)
UID:570a68a0-b44b-44e2-9edd-8f13a5c5957d
STATUS:CONFIRMED
LAST-MODIFIED:20240329T211925Z
DESCRIPTION:Landesliga 2\nBegegnungs-Nr: 26\nHeim: SG BC Tempelhof/Friedenau II\nGast: TSV Tempelhof-Mariendorf II\nHalle: BO (BO)\nAdresse: Bosestraße 21\, 12103 Berlin - Tempelhof\n
LOCATION:BO (BO): Bosestraße 21\, 12103 Berlin - Tempelhof
CATEGORIES:Saison 2023/24
END:VEVENT
BEGIN:VEVENT
DTSTAMP:20260419T222013Z
DTSTART;TZID=Europe/Berlin:20240120T114500
DTEND;TZID=Europe/Berlin:20240120T144500
SUMMARY:Landesliga 2 SG EBT III vs TSV Tempelhof-Mariendorf II (19)
UID:e391f558-8570-4290-b917-3fb843e2614f
STATUS:CONFIRMED
LAST-MODIFIED:20240209T231608Z
DESCRIPTION:Landesliga 2\nBegegnungs-Nr: 19\nHeim: SG EBT III\nGast: TSV Tempelhof-Mariendorf II\nHalle: SA (SA)\nAdresse: Samariterstr. 19-20\, 10249 Berlin - Friedrichshain\n
LOCATION:SA (SA): Samariterstr. 19-20\, 10249 Berlin - Friedrichshain
CATEGORIES:Saison 2023/24
END:VEVENT
BEGIN:VEVENT
DTSTAMP:20260419T222013Z
DTSTART;TZID=Europe/Berlin:20240224T130000
DTEND;TZID=Europe/Berlin:20240224T160000
SUMMARY:Landesliga 2 Berliner Sport-Club III vs TSV Tempelhof-Mariendorf II (13)
UID:14cb0881-53b1-4781-b738-bf607b19f03c
STATUS:CONFIRMED
LAST-MODIFIED:20240329T211213Z
DESCRIPTION:Landesliga 2\nBegegnungs-Nr: 13\nHeim: Berliner Sport-Club III\nGast: TSV Tempelhof-Mariendorf II\nHalle: EZ (EZ)\nAdresse: Eisenzahnstraße 46\, 10709 Berlin - Wilmersdorf\n
LOCATION:EZ (EZ): Eisenzahnstraße 46\, 10709 Berlin - Wilmersdorf
CATEGORIES:Saison 2023/24
END:VEVENT
BEGIN:VEVENT
DTSTAMP:20260419T222013Z
DTSTART;TZID=Europe/Berlin:20240121T130000
DTEND;TZID=Europe/Berlin:20240121T160000
SUMMARY:Landesliga 2 SG ProSport/Zehlendorf II vs TSV Tempelhof-Mariendorf II (5)
UID:92134174-77b9-47dc-9354-89096fd2ff78
STATUS:CONFIRMED
LAST-MODIFIED:20240209T233003Z
DESCRIPTION:Landesliga 2\nBegegnungs-Nr: 5\nHeim: SG ProSport/Zehlendorf II\nGast: TSV Tempelhof-Mariendorf II\nHalle: KO (KO)\nAdresse: Kohlfurter Straße 20\, 10999 Berlin - Kreuzberg\n
LOCATION:KO (KO): Kohlfurter Straße 20\, 10999 Berlin - Kreuzberg
CATEGORIES:Saison 2023/24
END:VEVENT
BEGIN:VEVENT
DTSTAMP:20260419T222013Z
DTSTART;TZID=Europe/Berlin:20230926T190000
DTEND;TZID=Europe/Berlin:20230926T220000
SUMMARY:Landesliga 2 TSV GutsMuths vs TSV Tempelhof-Mariendorf II (2)
UID:963197bc-6c82-4949-b5fc-c4c0bb5f75f3
STATUS:CONFIRMED
LAST-MODIFIED:20231029T140607Z
DESCRIPTION:Landesliga 2\nBegegnungs-Nr: 2\nHeim: TSV GutsMuths\nGast: TSV Tempelhof-Mariendorf II\nHalle: LZ (LZ)\nAdresse: Lützowstraße 83-85\, 10785 Berlin - Tiergarten\n
LOCATION:LZ (LZ): Lützowstraße 83-85\, 10785 Berlin - Tiergarten
CATEGORIES:Saison 2023/24
END:VEVENT
END:VCALENDAR
