BEGIN:VCALENDAR
PRODID:-//nuDatenautomaten//framework iCal4j //DE
VERSION:2.0
CALSCALE:GREGORIAN
BEGIN:VTIMEZONE
TZID:Europe/Berlin
LAST-MODIFIED:20260306T231828Z
TZURL:https://www.tzurl.org/zoneinfo/Europe/Berlin
X-LIC-LOCATION:Europe/Berlin
X-PROLEPTIC-TZNAME:LMT
BEGIN:STANDARD
TZNAME:CET
TZOFFSETFROM:+005328
TZOFFSETTO:+0100
DTSTART:18930401T000000
END:STANDARD
BEGIN:DAYLIGHT
TZNAME:CEST
TZOFFSETFROM:+0100
TZOFFSETTO:+0200
DTSTART:19160430T230000
RDATE:19400401T020000
RDATE:19430329T020000
RDATE:19460414T020000
RDATE:19470406T030000
RDATE:19480418T020000
RDATE:19490410T020000
RDATE:19800406T020000
END:DAYLIGHT
BEGIN:STANDARD
TZNAME:CET
TZOFFSETFROM:+0200
TZOFFSETTO:+0100
DTSTART:19161001T010000
RDATE:19421102T030000
RDATE:19431004T030000
RDATE:19441002T030000
RDATE:19451118T030000
RDATE:19461007T030000
END:STANDARD
BEGIN:DAYLIGHT
TZNAME:CEST
TZOFFSETFROM:+0100
TZOFFSETTO:+0200
DTSTART:19170416T020000
RRULE:FREQ=YEARLY;UNTIL=19180415T010000Z;BYMONTH=4;BYDAY=3MO
END:DAYLIGHT
BEGIN:STANDARD
TZNAME:CET
TZOFFSETFROM:+0200
TZOFFSETTO:+0100
DTSTART:19170917T030000
RRULE:FREQ=YEARLY;UNTIL=19180916T010000Z;BYMONTH=9;BYDAY=3MO
END:STANDARD
BEGIN:DAYLIGHT
TZNAME:CEST
TZOFFSETFROM:+0100
TZOFFSETTO:+0200
DTSTART:19440403T020000
RRULE:FREQ=YEARLY;UNTIL=19450402T010000Z;BYMONTH=4;BYDAY=1MO
END:DAYLIGHT
BEGIN:DAYLIGHT
TZNAME:CEMT
TZOFFSETFROM:+0200
TZOFFSETTO:+0300
DTSTART:19450524T020000
RDATE:19470511T030000
END:DAYLIGHT
BEGIN:DAYLIGHT
TZNAME:CEST
TZOFFSETFROM:+0300
TZOFFSETTO:+0200
DTSTART:19450924T030000
RDATE:19470629T030000
END:DAYLIGHT
BEGIN:STANDARD
TZNAME:CET
TZOFFSETFROM:+0100
TZOFFSETTO:+0100
DTSTART:19460101T000000
RDATE:19800101T000000
END:STANDARD
BEGIN:STANDARD
TZNAME:CET
TZOFFSETFROM:+0200
TZOFFSETTO:+0100
DTSTART:19471005T030000
RRULE:FREQ=YEARLY;UNTIL=19491002T010000Z;BYMONTH=10;BYDAY=1SU
END:STANDARD
BEGIN:STANDARD
TZNAME:CET
TZOFFSETFROM:+0200
TZOFFSETTO:+0100
DTSTART:19800928T030000
RRULE:FREQ=YEARLY;UNTIL=19950924T010000Z;BYMONTH=9;BYDAY=-1SU
END:STANDARD
BEGIN:DAYLIGHT
TZNAME:CEST
TZOFFSETFROM:+0100
TZOFFSETTO:+0200
DTSTART:19810329T020000
RRULE:FREQ=YEARLY;BYMONTH=3;BYDAY=-1SU
END:DAYLIGHT
BEGIN:STANDARD
TZNAME:CET
TZOFFSETFROM:+0200
TZOFFSETTO:+0100
DTSTART:19961027T030000
RRULE:FREQ=YEARLY;BYMONTH=10;BYDAY=-1SU
END:STANDARD
END:VTIMEZONE
BEGIN:VEVENT
DTSTAMP:20260419T200939Z
DTSTART;TZID=Europe/Berlin:20231007T160000
DTEND;TZID=Europe/Berlin:20231007T190000
SUMMARY:B-Klasse 1 SG BC Tempelhof/Friedenau V vs RSV Eintracht (7)
UID:582a61be-56e3-46fe-9bc4-1af500bc6394
STATUS:CONFIRMED
LAST-MODIFIED:20231014T203504Z
DESCRIPTION:B-Klasse 1\nBegegnungs-Nr: 7\nHeim: SG BC Tempelhof/Friedenau V\nGast: RSV Eintracht\nHalle: BO (BO)\nAdresse: Bosestraße 21\, 12103 Berlin - Tempelhof\n
LOCATION:BO (BO): Bosestraße 21\, 12103 Berlin - Tempelhof
CATEGORIES:Saison 2023/24
END:VEVENT
BEGIN:VEVENT
DTSTAMP:20260419T200939Z
DTSTART;TZID=Europe/Berlin:20231209T143000
DTEND;TZID=Europe/Berlin:20231209T173000
SUMMARY:B-Klasse 1 SG BC Tempelhof/Friedenau V vs VfB Kiefholz III (20)
UID:8d0249ef-0ede-4979-b2fe-24466dfc6879
STATUS:CONFIRMED
LAST-MODIFIED:20240108T203814Z
DESCRIPTION:B-Klasse 1\nBegegnungs-Nr: 20\nHeim: SG BC Tempelhof/Friedenau V\nGast: VfB Kiefholz III\nHalle: BO (BO)\nAdresse: Bosestraße 21\, 12103 Berlin - Tempelhof\n
LOCATION:BO (BO): Bosestraße 21\, 12103 Berlin - Tempelhof
CATEGORIES:Saison 2023/24
END:VEVENT
BEGIN:VEVENT
DTSTAMP:20260419T200939Z
DTSTART;TZID=Europe/Berlin:20231111T173000
DTEND;TZID=Europe/Berlin:20231111T203000
SUMMARY:B-Klasse 1 SG BC Tempelhof/Friedenau V vs Köpenicker BC (15)
UID:4dba2378-f9fc-4dcf-9f88-93b90d579590
STATUS:CONFIRMED
LAST-MODIFIED:20231111T224928Z
DESCRIPTION:B-Klasse 1\nBegegnungs-Nr: 15\nHeim: SG BC Tempelhof/Friedenau V\nGast: Köpenicker BC\nHalle: BO (BO)\nAdresse: Bosestraße 21\, 12103 Berlin - Tempelhof\n
LOCATION:BO (BO): Bosestraße 21\, 12103 Berlin - Tempelhof
CATEGORIES:Saison 2023/24
END:VEVENT
BEGIN:VEVENT
DTSTAMP:20260419T200939Z
DTSTART;TZID=Europe/Berlin:20231014T173000
DTEND;TZID=Europe/Berlin:20231014T203000
SUMMARY:B-Klasse 1 SG BC Tempelhof/Friedenau V vs Märkischer SC II (12)
UID:691a6e01-6857-41fb-8d12-60e0dc0172f4
STATUS:CONFIRMED
LAST-MODIFIED:20231023T191902Z
DESCRIPTION:B-Klasse 1\nBegegnungs-Nr: 12\nHeim: SG BC Tempelhof/Friedenau V\nGast: Märkischer SC II\nHalle: BO (BO)\nAdresse: Bosestraße 21\, 12103 Berlin - Tempelhof\n
LOCATION:BO (BO): Bosestraße 21\, 12103 Berlin - Tempelhof
CATEGORIES:Saison 2023/24
END:VEVENT
BEGIN:VEVENT
DTSTAMP:20260419T200939Z
DTSTART;TZID=Europe/Berlin:20240309T150000
DTEND;TZID=Europe/Berlin:20240309T180000
SUMMARY:B-Klasse 1 SG BC Tempelhof/Friedenau V vs SG ProSport/Zehlendorf VI (17)
UID:822482e2-7f54-46c5-92c4-1774adb17899
STATUS:CONFIRMED
LAST-MODIFIED:20240217T104434Z
DESCRIPTION:B-Klasse 1\nBegegnungs-Nr: 17\nHeim: SG BC Tempelhof/Friedenau V\nGast: SG ProSport/Zehlendorf VI\nHalle: BO (BO)\nAdresse: Bosestraße 21\, 12103 Berlin - Tempelhof\n
LOCATION:BO (BO): Bosestraße 21\, 12103 Berlin - Tempelhof
CATEGORIES:Saison 2023/24
END:VEVENT
BEGIN:VEVENT
DTSTAMP:20260419T200939Z
DTSTART;TZID=Europe/Berlin:20240113T143000
DTEND;TZID=Europe/Berlin:20240113T173000
SUMMARY:B-Klasse 1 SG BC Tempelhof/Friedenau V vs SV Berliner Brauereien VI (1)
UID:7a9b0b3a-70e6-43f3-847e-64b011d5d085
STATUS:CONFIRMED
LAST-MODIFIED:20240127T213420Z
DESCRIPTION:B-Klasse 1\nBegegnungs-Nr: 1\nHeim: SG BC Tempelhof/Friedenau V\nGast: SV Berliner Brauereien VI\nHalle: BO (BO)\nAdresse: Bosestraße 21\, 12103 Berlin - Tempelhof\n
LOCATION:BO (BO): Bosestraße 21\, 12103 Berlin - Tempelhof
CATEGORIES:Saison 2023/24
END:VEVENT
BEGIN:VEVENT
DTSTAMP:20260419T200939Z
DTSTART;TZID=Europe/Berlin:20231124T190000
DTEND;TZID=Europe/Berlin:20231124T220000
SUMMARY:B-Klasse 1 SG ProSport/Zehlendorf VI vs SG BC Tempelhof/Friedenau V (18)
UID:e02bc2e1-dfd4-47f6-8173-a8b5d2ad8a07
STATUS:CONFIRMED
LAST-MODIFIED:20240108T203422Z
DESCRIPTION:B-Klasse 1\nBegegnungs-Nr: 18\nHeim: SG ProSport/Zehlendorf VI\nGast: SG BC Tempelhof/Friedenau V\nHalle: HN (HN)\nAdresse: Hannoversche Str. 20\, 10115 Berlin - Mitte\n
LOCATION:HN (HN): Hannoversche Str. 20\, 10115 Berlin - Mitte
CATEGORIES:Saison 2023/24
END:VEVENT
BEGIN:VEVENT
DTSTAMP:20260419T200939Z
DTSTART;TZID=Europe/Berlin:20231126T100000
DTEND;TZID=Europe/Berlin:20231126T130000
SUMMARY:B-Klasse 1 SV Berliner Brauereien VI vs SG BC Tempelhof/Friedenau V (2)
UID:e4dca38b-8a9e-48f1-aeaa-f516500e2499
STATUS:CONFIRMED
LAST-MODIFIED:20240108T203512Z
DESCRIPTION:B-Klasse 1\nBegegnungs-Nr: 2\nHeim: SV Berliner Brauereien VI\nGast: SG BC Tempelhof/Friedenau V\nHalle: TM (TM)\nAdresse: Templiner Str. 3\, 10119 Berlin - Prenzlauer Berg\n
LOCATION:TM (TM): Templiner Str. 3\, 10119 Berlin - Prenzlauer Berg
CATEGORIES:Saison 2023/24
END:VEVENT
BEGIN:VEVENT
DTSTAMP:20260419T200939Z
DTSTART;TZID=Europe/Berlin:20240218T150000
DTEND;TZID=Europe/Berlin:20240218T180000
SUMMARY:B-Klasse 1 Köpenicker BC vs SG BC Tempelhof/Friedenau V (15)
UID:4018c336-d81e-4577-8ee4-44e08e038432
STATUS:CONFIRMED
LAST-MODIFIED:20240219T122106Z
DESCRIPTION:B-Klasse 1\nBegegnungs-Nr: 15\nHeim: Köpenicker BC\nGast: SG BC Tempelhof/Friedenau V\nHalle: NE (NE)\nAdresse: Pablo-Neruda-Str. 6-7\, 12559 Berlin - Köpenick\n
LOCATION:NE (NE): Pablo-Neruda-Str. 6-7\, 12559 Berlin - Köpenick
CATEGORIES:Saison 2023/24
END:VEVENT
BEGIN:VEVENT
DTSTAMP:20260419T200939Z
DTSTART;TZID=Europe/Berlin:20240216T193000
DTEND;TZID=Europe/Berlin:20240216T223000
SUMMARY:B-Klasse 1 Märkischer SC II vs SG BC Tempelhof/Friedenau V (12)
UID:4273c549-0fa9-4564-8d54-bcd48af27148
STATUS:CONFIRMED
LAST-MODIFIED:20240219T121652Z
DESCRIPTION:B-Klasse 1\nBegegnungs-Nr: 12\nHeim: Märkischer SC II\nGast: SG BC Tempelhof/Friedenau V\nHalle: GE (GE)\nAdresse: Geibelstr. 12\, 10961 Berlin - Kreuzberg\n
LOCATION:GE (GE): Geibelstr. 12\, 10961 Berlin - Kreuzberg
CATEGORIES:Saison 2023/24
END:VEVENT
BEGIN:VEVENT
DTSTAMP:20260419T200939Z
DTSTART;TZID=Europe/Berlin:20240316T140000
DTEND;TZID=Europe/Berlin:20240316T170000
SUMMARY:B-Klasse 1 VfB Kiefholz III vs SG BC Tempelhof/Friedenau V (21)
UID:34016c34-3a12-46a2-8a5b-c819789ac08e
STATUS:CONFIRMED
LAST-MODIFIED:20230814T160430Z
DESCRIPTION:B-Klasse 1\nBegegnungs-Nr: 21\nHeim: VfB Kiefholz III\nGast: SG BC Tempelhof/Friedenau V\nHalle: HG (HG)\nAdresse: Hänselstraße 14\, 12437 Berlin - Treptow\n
LOCATION:HG (HG): Hänselstraße 14\, 12437 Berlin - Treptow
CATEGORIES:Saison 2023/24
END:VEVENT
BEGIN:VEVENT
DTSTAMP:20260419T200939Z
DTSTART;TZID=Europe/Berlin:20240120T140000
DTEND;TZID=Europe/Berlin:20240120T170000
SUMMARY:B-Klasse 1 RSV Eintracht vs SG BC Tempelhof/Friedenau V (4)
UID:68c7d358-fcd3-4a92-8f3a-7eee46550cda
STATUS:CONFIRMED
LAST-MODIFIED:20240127T213542Z
DESCRIPTION:B-Klasse 1\nBegegnungs-Nr: 4\nHeim: RSV Eintracht\nGast: SG BC Tempelhof/Friedenau V\nHalle: IK (IK)\nAdresse: Im Kamp 7\, 14532 Kleinmachnow\n
LOCATION:IK (IK): Im Kamp 7\, 14532 Kleinmachnow
CATEGORIES:Saison 2023/24
END:VEVENT
END:VCALENDAR
