BEGIN:VCALENDAR
PRODID:-//nuDatenautomaten//framework iCal4j //DE
VERSION:2.0
CALSCALE:GREGORIAN
BEGIN:VTIMEZONE
TZID:Europe/Berlin
LAST-MODIFIED:20260306T231828Z
TZURL:https://www.tzurl.org/zoneinfo/Europe/Berlin
X-LIC-LOCATION:Europe/Berlin
X-PROLEPTIC-TZNAME:LMT
BEGIN:STANDARD
TZNAME:CET
TZOFFSETFROM:+005328
TZOFFSETTO:+0100
DTSTART:18930401T000000
END:STANDARD
BEGIN:DAYLIGHT
TZNAME:CEST
TZOFFSETFROM:+0100
TZOFFSETTO:+0200
DTSTART:19160430T230000
RDATE:19400401T020000
RDATE:19430329T020000
RDATE:19460414T020000
RDATE:19470406T030000
RDATE:19480418T020000
RDATE:19490410T020000
RDATE:19800406T020000
END:DAYLIGHT
BEGIN:STANDARD
TZNAME:CET
TZOFFSETFROM:+0200
TZOFFSETTO:+0100
DTSTART:19161001T010000
RDATE:19421102T030000
RDATE:19431004T030000
RDATE:19441002T030000
RDATE:19451118T030000
RDATE:19461007T030000
END:STANDARD
BEGIN:DAYLIGHT
TZNAME:CEST
TZOFFSETFROM:+0100
TZOFFSETTO:+0200
DTSTART:19170416T020000
RRULE:FREQ=YEARLY;UNTIL=19180415T010000Z;BYMONTH=4;BYDAY=3MO
END:DAYLIGHT
BEGIN:STANDARD
TZNAME:CET
TZOFFSETFROM:+0200
TZOFFSETTO:+0100
DTSTART:19170917T030000
RRULE:FREQ=YEARLY;UNTIL=19180916T010000Z;BYMONTH=9;BYDAY=3MO
END:STANDARD
BEGIN:DAYLIGHT
TZNAME:CEST
TZOFFSETFROM:+0100
TZOFFSETTO:+0200
DTSTART:19440403T020000
RRULE:FREQ=YEARLY;UNTIL=19450402T010000Z;BYMONTH=4;BYDAY=1MO
END:DAYLIGHT
BEGIN:DAYLIGHT
TZNAME:CEMT
TZOFFSETFROM:+0200
TZOFFSETTO:+0300
DTSTART:19450524T020000
RDATE:19470511T030000
END:DAYLIGHT
BEGIN:DAYLIGHT
TZNAME:CEST
TZOFFSETFROM:+0300
TZOFFSETTO:+0200
DTSTART:19450924T030000
RDATE:19470629T030000
END:DAYLIGHT
BEGIN:STANDARD
TZNAME:CET
TZOFFSETFROM:+0100
TZOFFSETTO:+0100
DTSTART:19460101T000000
RDATE:19800101T000000
END:STANDARD
BEGIN:STANDARD
TZNAME:CET
TZOFFSETFROM:+0200
TZOFFSETTO:+0100
DTSTART:19471005T030000
RRULE:FREQ=YEARLY;UNTIL=19491002T010000Z;BYMONTH=10;BYDAY=1SU
END:STANDARD
BEGIN:STANDARD
TZNAME:CET
TZOFFSETFROM:+0200
TZOFFSETTO:+0100
DTSTART:19800928T030000
RRULE:FREQ=YEARLY;UNTIL=19950924T010000Z;BYMONTH=9;BYDAY=-1SU
END:STANDARD
BEGIN:DAYLIGHT
TZNAME:CEST
TZOFFSETFROM:+0100
TZOFFSETTO:+0200
DTSTART:19810329T020000
RRULE:FREQ=YEARLY;BYMONTH=3;BYDAY=-1SU
END:DAYLIGHT
BEGIN:STANDARD
TZNAME:CET
TZOFFSETFROM:+0200
TZOFFSETTO:+0100
DTSTART:19961027T030000
RRULE:FREQ=YEARLY;BYMONTH=10;BYDAY=-1SU
END:STANDARD
END:VTIMEZONE
BEGIN:VEVENT
DTSTAMP:20260419T190910Z
DTSTART;TZID=Europe/Berlin:20231014T151500
DTEND;TZID=Europe/Berlin:20231014T181500
SUMMARY:Vorrunde Staffel B VfL Lichtenrade vs SV Berliner Brauereien IV (9)
UID:dc59b087-b859-452e-8442-73d444277b2e
STATUS:CONFIRMED
LAST-MODIFIED:20231016T064646Z
DESCRIPTION:Vorrunde U15 Staffel B\nBegegnungs-Nr: 9\nHeim: VfL Lichtenrade\nGast: SV Berliner Brauereien IV\nHalle: SY (SY)\nAdresse: Sybelstraße 20/21\, 10629 Berlin - Charlottenburg\n
LOCATION:SY (SY): Sybelstraße 20/21\, 10629 Berlin - Charlottenburg
CATEGORIES:Saison 2023/24
END:VEVENT
BEGIN:VEVENT
DTSTAMP:20260419T190910Z
DTSTART;TZID=Europe/Berlin:20240120T173000
DTEND;TZID=Europe/Berlin:20240120T203000
SUMMARY:Zwischenrunde Staffel 2 VfL Lichtenrade vs SG EBT (Berlin) (5)
UID:b7e3f7e2-458f-4dc3-ae64-46571c96d3e5
STATUS:CONFIRMED
LAST-MODIFIED:20240120T173954Z
DESCRIPTION:Zwischenrunde Staffel 2\nBegegnungs-Nr: 5\nHeim: VfL Lichtenrade\nGast: SG EBT (Berlin)\nHalle: SY (SY)\nAdresse: Sybelstraße 20/21\, 10629 Berlin - Charlottenburg\n
LOCATION:SY (SY): Sybelstraße 20/21\, 10629 Berlin - Charlottenburg
CATEGORIES:Saison 2023/24
END:VEVENT
BEGIN:VEVENT
DTSTAMP:20260419T190910Z
DTSTART;TZID=Europe/Berlin:20240120T143000
DTEND;TZID=Europe/Berlin:20240120T173000
SUMMARY:Zwischenrunde Staffel 2 VfL Lichtenrade vs SV Berliner Brauereien II (2)
UID:5f99dfa6-bb88-4210-aea1-6a90b96b1173
STATUS:CONFIRMED
LAST-MODIFIED:20240120T144909Z
DESCRIPTION:Zwischenrunde Staffel 2\nBegegnungs-Nr: 2\nHeim: VfL Lichtenrade\nGast: SV Berliner Brauereien II\nHalle: SY (SY)\nAdresse: Sybelstraße 20/21\, 10629 Berlin - Charlottenburg\n
LOCATION:SY (SY): Sybelstraße 20/21\, 10629 Berlin - Charlottenburg
CATEGORIES:Saison 2023/24
END:VEVENT
BEGIN:VEVENT
DTSTAMP:20260419T190910Z
DTSTART;TZID=Europe/Berlin:20240121T111500
DTEND;TZID=Europe/Berlin:20240121T141500
SUMMARY:Platz 7-8 VfL Lichtenrade vs BG Grünau (1)
UID:85ec2ca8-2cc6-431d-8f67-d5faa72ffac1
STATUS:CONFIRMED
LAST-MODIFIED:20240121T110820Z
DESCRIPTION:Spiel um Platz 7\nBegegnungs-Nr: 1\nHeim: VfL Lichtenrade\nGast: BG Grünau\nHalle: SY (SY)\nAdresse: Sybelstraße 20/21\, 10629 Berlin - Charlottenburg\n
LOCATION:SY (SY): Sybelstraße 20/21\, 10629 Berlin - Charlottenburg
CATEGORIES:Saison 2023/24
END:VEVENT
BEGIN:VEVENT
DTSTAMP:20260419T190910Z
DTSTART;TZID=Europe/Berlin:20231014T133000
DTEND;TZID=Europe/Berlin:20231014T163000
SUMMARY:Vorrunde Staffel B BG Grünau vs VfL Lichtenrade (7)
UID:28d65412-13d6-48c1-be14-10f94a345823
STATUS:CONFIRMED
LAST-MODIFIED:20231016T064559Z
DESCRIPTION:Vorrunde U15 Staffel B\nBegegnungs-Nr: 7\nHeim: BG Grünau\nGast: VfL Lichtenrade\nHalle: SY (SY)\nAdresse: Sybelstraße 20/21\, 10629 Berlin - Charlottenburg\n
LOCATION:SY (SY): Sybelstraße 20/21\, 10629 Berlin - Charlottenburg
CATEGORIES:Saison 2023/24
END:VEVENT
BEGIN:VEVENT
DTSTAMP:20260419T190910Z
DTSTART;TZID=Europe/Berlin:20231014T163000
DTEND;TZID=Europe/Berlin:20231014T193000
SUMMARY:Vorrunde Staffel B Fürstenwalder BC II vs VfL Lichtenrade (11)
UID:7554939a-bb3b-46ba-b17a-52aacd69eebd
STATUS:CONFIRMED
LAST-MODIFIED:20231016T064658Z
DESCRIPTION:Vorrunde U15 Staffel B\nBegegnungs-Nr: 11\nHeim: Fürstenwalder BC II\nGast: VfL Lichtenrade\nHalle: SY (SY)\nAdresse: Sybelstraße 20/21\, 10629 Berlin - Charlottenburg\n
LOCATION:SY (SY): Sybelstraße 20/21\, 10629 Berlin - Charlottenburg
CATEGORIES:Saison 2023/24
END:VEVENT
BEGIN:VEVENT
DTSTAMP:20260419T190910Z
DTSTART;TZID=Europe/Berlin:20240120T160000
DTEND;TZID=Europe/Berlin:20240120T190000
SUMMARY:Zwischenrunde Staffel 2 SG ProSport/Zehlendorf vs VfL Lichtenrade (4)
UID:b075330c-fe78-4286-b45c-f81cbf58563f
STATUS:CONFIRMED
LAST-MODIFIED:20240120T162750Z
DESCRIPTION:Zwischenrunde Staffel 2\nBegegnungs-Nr: 4\nHeim: SG ProSport/Zehlendorf\nGast: VfL Lichtenrade\nHalle: SY (SY)\nAdresse: Sybelstraße 20/21\, 10629 Berlin - Charlottenburg\n
LOCATION:SY (SY): Sybelstraße 20/21\, 10629 Berlin - Charlottenburg
CATEGORIES:Saison 2023/24
END:VEVENT
BEGIN:VEVENT
DTSTAMP:20260419T190910Z
DTSTART;TZID=Europe/Berlin:20240121T093000
DTEND;TZID=Europe/Berlin:20240121T123000
SUMMARY:Halbfinale 5-8 TSV Spandau (Berlin) vs VfL Lichtenrade (1)
UID:7a33fc18-aa1b-4637-8ce4-1ead7c579c53
STATUS:CONFIRMED
LAST-MODIFIED:20240121T111253Z
DESCRIPTION:Halbfinale 5-8\nBegegnungs-Nr: 1\nHeim: TSV Spandau (Berlin)\nGast: VfL Lichtenrade\nHalle: SY (SY)\nAdresse: Sybelstraße 20/21\, 10629 Berlin - Charlottenburg\n
LOCATION:SY (SY): Sybelstraße 20/21\, 10629 Berlin - Charlottenburg
CATEGORIES:Saison 2023/24
END:VEVENT
END:VCALENDAR
